BEGIN:VCALENDAR
VERSION:2.0
PRODID:spatie/icalendar-generator
DESCRIPTION:Events from Trap Library East Auckland
X-WR-CALDESC:Events from Trap Library East Auckland
REFRESH-INTERVAL;VALUE=DURATION:PT1440M
X-PUBLISHED-TTL:PT1440M
BEGIN:VTIMEZONE
TZID:Pacific/Auckland
BEGIN:DAYLIGHT
DTSTART:20260927T020000Z
TZOFFSETFROM:+1200
TZOFFSETTO:+1300
END:DAYLIGHT
BEGIN:STANDARD
DTSTART:20270404T030000Z
TZOFFSETFROM:+1300
TZOFFSETTO:+1200
END:STANDARD
END:VTIMEZONE
BEGIN:VTIMEZONE
TZID:UTC
BEGIN:STANDARD
DTSTART:20250728T154100Z
TZOFFSETFROM:+0000
TZOFFSETTO:+0000
END:STANDARD
END:VTIMEZONE
BEGIN:VEVENT
UID:91-2
DTSTAMP:20260424T154100Z
SUMMARY:Trap Handout &amp;amp\; Return
LOCATION:Pest Free Howick Ward Storage Unit 5 Aylesbury Street Pakuranga Au
 ckland
ORGANIZER;CN=John Tait:MAILTO:john.tait@zoho.com
RRULE:FREQ=MONTHLY;BYDAY=3SA;UNTIL=20270320T000000Z
DTSTART;TZID=Pacific/Auckland:20270220T100000
DTEND;TZID=Pacific/Auckland:20270220T120000
X-ALT-DESC;FMTTYPE=TEXT/HTML:<p>Borrow or return a possum or stoat trap fro
 m our trap library.  Join our Mustelid Control Zone project.  Register for
  a free rat trap with Pest Free Howick Ward.</p>\n
CATEGORIES:General
URL;VALUE=URI:https://tlea.pfhw.org.nz/mc-events/trap-handout-return/?mc_id
 =91
METHOD:PUBLISH
END:VEVENT
END:VCALENDAR